BEGIN:VCALENDAR
PRODID:-//github.com/ical-org/ical.net//NONSGML ical.net 4.0//EN
VERSION:2.0
BEGIN:VEVENT
DESCRIPTION:https://www.nacdonline.org/north-texas/north-texas-events/nyse
 s-impact-in-texas/
DTEND;TZID=America/Chicago:20260520T184500
DTSTAMP:20260424T051959Z
DTSTART;TZID=America/Chicago:20260520T163000
LOCATION:George W. Bush Presidential Center\, 2943 Bush Avenue\, Dallas\, 
 TX\, 75205\,
SEQUENCE:0
SUMMARY:NYSE&rsquo\;s Impact in Texas
UID:474d5574-03a0-4c08-ade8-2a7657d0ba4f
END:VEVENT
END:VCALENDAR
