BEGIN:VCALENDAR
PRODID:-//github.com/ical-org/ical.net//NONSGML ical.net 4.0//EN
VERSION:2.0
BEGIN:VEVENT
DESCRIPTION:https://www.nacdonline.org/heartland/heartland-events/successi
 on-without-a-script/
DTEND;TZID=America/Chicago:20260520T083000
DTSTAMP:20260423T060026Z
DTSTART;TZID=America/Chicago:20260520T073000
LOCATION:Delta Dental Headquarters\, 12399 Gravois Rd\, St Louis\, MO \, 6
 3127\,
SEQUENCE:0
SUMMARY:Succession Without a Script
UID:3f0694fc-ad87-4709-9d28-5543a46d98d0
END:VEVENT
END:VCALENDAR
