BEGIN:VCALENDAR
PRODID:-//github.com/ical-org/ical.net//NONSGML ical.net 4.0//EN
VERSION:2.0
BEGIN:VEVENT
DESCRIPTION:https://www.nacdonline.org/philadelphia/philadelphia-events/ba
 lancing-talent-technology-and-mission-in-hospital-governance/
DTEND;TZID=America/New_York:20260519T091500
DTSTAMP:20260421T051024Z
DTSTART;TZID=America/New_York:20260519T080000
LOCATION:Online\,
SEQUENCE:0
SUMMARY:The Challenges of Governing Hospital and Health Systems:&nbsp\;
UID:2564ea65-1bc2-442a-8f63-7cc1114a56e9
END:VEVENT
END:VCALENDAR
