BEGIN:VCALENDAR
PRODID:-//github.com/ical-org/ical.net//NONSGML ical.net 4.0//EN
VERSION:2.0
BEGIN:VEVENT
DESCRIPTION:https://www.nacdonline.org/new-england/new-england-events/navi
 gating-key-compensation-issues/
DTEND;TZID=America/New_York:20260528T133000
DTSTAMP:20260421T102805Z
DTSTART;TZID=America/New_York:20260528T120000
LOCATION:Online\,
SEQUENCE:0
SUMMARY:Navigating Key Compensation Issues
UID:370faf0e-cf2c-443e-bce0-164c30a368d0
END:VEVENT
END:VCALENDAR
