BEGIN:VCALENDAR
PRODID:-//github.com/ical-org/ical.net//NONSGML ical.net 4.0//EN
VERSION:2.0
BEGIN:VEVENT
DESCRIPTION:https://www.nacdonline.org/connecticut/connecticut-events/ceo-
 fireside-chat/
DTEND;TZID=America/New_York:20260929T193000
DTSTAMP:20260420T084945Z
DTSTART;TZID=America/New_York:20260929T170000
LOCATION:Wee Burn Country Club\, 410 Hollow Tree Ridge Rd\, Darien\, CT\, 
 06820\,
SEQUENCE:0
SUMMARY:CEO Fireside Chat
UID:da720ec3-75a2-4efc-ac15-cb19ec8a2f62
END:VEVENT
END:VCALENDAR
