BEGIN:VCALENDAR
PRODID:-//github.com/ical-org/ical.net//NONSGML ical.net 4.0//EN
VERSION:2.0
BEGIN:VEVENT
DESCRIPTION:https://www.nacdonline.org/connecticut/connecticut-events/non-
 profit-board-governance/
DTEND;TZID=America/New_York:20260604T193000
DTSTAMP:20260420T103624Z
DTSTART;TZID=America/New_York:20260604T170000
LOCATION:KPMG Offices\, 677 Washington Blvd.\, Stamford\, CT\, 06901\,
SEQUENCE:0
SUMMARY:Non-Profit Board Governance
UID:b78c0abf-091b-4f07-8bc0-06be95729caf
END:VEVENT
END:VCALENDAR
